BEGIN:VCALENDAR
VERSION:2.0
PRODID:-//eventon.com NONSGML v1.0//EN
CALSCALE:GREGORIAN
METHOD:PUBLISH
BEGIN:VEVENT
UID:69e773aa0377e
DTSTAMP:20260421T125506Z
DTSTART:20181007T120000Z
DTEND:20181007T235000Z
LOCATION:
SUMMARY:Mountain Crafters Festival 2018
DESCRIPTION:Mountain Crafters Festival 2018\nhttps://theresajogaffney.com/e
 vents/mountain-crafters-festival-2018/
URL:https://theresajogaffney.com/events/mountain-crafters-festival-2018/
END:VEVENT
END:VCALENDAR