BEGIN:VCALENDAR
VERSION:2.0
PRODID:-//eventon.com NONSGML v1.0//EN
CALSCALE:GREGORIAN
METHOD:PUBLISH
BEGIN:VEVENT
UID:69e739e76a5ff
DTSTAMP:20260421T084839Z
DTSTART:20181201T100000Z
DTEND:20181201T200000Z
LOCATION:Murphy Business Association 46 Valley River Ave\,  Murphy\,  North Carolina 28906
SUMMARY:A Very Murphy Christmas
DESCRIPTION:Theresa has two time slots for the main stage: 10:30am &#8211; 
 11:00am 12:30pm &#8211; 1:00pm Theresa will also be playing throughout the 
 day at her vendor booth.  Drop by and say hello!\nhttps://theresajogaffney
 .com/events/a-very-murphy-christmas-2018/
URL:https://theresajogaffney.com/events/a-very-murphy-christmas-2018/
END:VEVENT
END:VCALENDAR