BEGIN:VCALENDAR
VERSION:2.0
PRODID:-//eventon.com NONSGML v1.0//EN
CALSCALE:GREGORIAN
METHOD:PUBLISH
BEGIN:VEVENT
UID:69e73b8f1bbdf
DTSTAMP:20260421T085543Z
DTSTART:20190323T124500Z
DTEND:20190323T235000Z
LOCATION:Embassy Suites by Hilton Atlanta 4700 Southport Road Atlanta\,  GA  30337
SUMMARY:Speaking | The Great Loop
DESCRIPTION:Interested in doing The Great Loop? Come to the Looper Lifestyl
 e Seminar in Atlanta and hear many presenters\,  including Theresa and Tim 
 Gaffney\,  as they discuss their Great Loop adventure.\nhttps://theresajoga
 ffney.com/events/speaking-great-loop-032319/
URL:https://theresajogaffney.com/events/speaking-great-loop-032319/
END:VEVENT
END:VCALENDAR